BEGIN:VCALENDAR
VERSION:2.0
PRODID:-//Parque Katalapi - ECPv6.15.20//NONSGML v1.0//EN
CALSCALE:GREGORIAN
METHOD:PUBLISH
X-ORIGINAL-URL:https://www.parquekatalapi.cl
X-WR-CALDESC:Eventos para Parque Katalapi
REFRESH-INTERVAL;VALUE=DURATION:PT1H
X-Robots-Tag:noindex
X-PUBLISHED-TTL:PT1H
BEGIN:VTIMEZONE
TZID:America/Sao_Paulo
BEGIN:STANDARD
TZOFFSETFROM:-0200
TZOFFSETTO:-0300
TZNAME:-03
DTSTART:20180218T020000
END:STANDARD
BEGIN:DAYLIGHT
TZOFFSETFROM:-0300
TZOFFSETTO:-0200
TZNAME:-02
DTSTART:20181104T030000
END:DAYLIGHT
BEGIN:STANDARD
TZOFFSETFROM:-0200
TZOFFSETTO:-0300
TZNAME:-03
DTSTART:20190217T020000
END:STANDARD
END:VTIMEZONE
BEGIN:VEVENT
DTSTART;TZID=America/Sao_Paulo:20190712T080000
DTEND;TZID=America/Sao_Paulo:20190730T170000
DTSTAMP:20260423T162544
CREATED:20190713T010542Z
LAST-MODIFIED:20190713T010542Z
UID:216-1562918400-1564506000@www.parquekatalapi.cl
SUMMARY:Nueva Web
DESCRIPTION:Sitio web
URL:https://www.parquekatalapi.cl/event/nueva-web
LOCATION:Parque Katalapi\, Chile
END:VEVENT
END:VCALENDAR